BEGIN:VCALENDAR
VERSION:2.0
PRODID:-//The Arizona Pet Project - ECPv6.15.18//NONSGML v1.0//EN
CALSCALE:GREGORIAN
METHOD:PUBLISH
X-ORIGINAL-URL:https://azpetproject.org
X-WR-CALDESC:Events for The Arizona Pet Project
REFRESH-INTERVAL;VALUE=DURATION:PT1H
X-Robots-Tag:noindex
X-PUBLISHED-TTL:PT1H
BEGIN:VTIMEZONE
TZID:America/Phoenix
BEGIN:STANDARD
TZOFFSETFROM:-0700
TZOFFSETTO:-0700
TZNAME:MST
DTSTART:20210101T000000
END:STANDARD
END:VTIMEZONE
BEGIN:VEVENT
DTSTART;VALUE=DATE:20220701
DTEND;VALUE=DATE:20230101
DTSTAMP:20260421T011257
CREATED:20220706T163032Z
LAST-MODIFIED:20220706T173455Z
UID:6791-1656633600-1672531199@azpetproject.org
SUMMARY:Buffalo Exchange’s Tokens for Bags® to Benefit The Arizona Pet Project
DESCRIPTION:The Arizona Pet Project is happy to announce that we have been selected as a recipient of the Buffalo Exchange Tokens for Bags® program at their Tempe location from July through December 2022. \nYou can now donate to The Arizona Pet Project just by shopping at Buffalo Exchange in Tempe. Instead of a plastic bag\, the Tokens for Bags® program offers every customer who purchases one “token” valued at five cents (the cost to produce a bag) to donate to one of several local charities selected by the store. \nEvery six months\, Buffalo Exchange chooses new organizations for their Tokens for Bags® program that are local to their stores that support their communities. They have locations around the United States with several Buffalo Exchange stores in Arizona\, and we’re thrilled that their Tempe location has chosen to support The Arizona Pet Project for the remainder of the year! The Tokens for Bags® program has generated over $893\,860 for hundreds of local nonprofit organizations since 1994 and has saved over 17.87 million plastic bags from landfills. \nWe hope you’ll join us in shopping at Buffalo Exchange to help support families and pets in need all while keeping plastic bags out of landfills! That’s a win-win! 🐾
URL:https://azpetproject.org/event/buffalo-exchange-tokens-for-bags/
LOCATION:Buffalo Exchange Tempe\, 227 W University Dr\, Tempe\, AZ\, 85281\, United States
CATEGORIES:Fundraiser
ATTACH;FMTTYPE=image/png:https://azpetproject.org/wp-content/uploads/2022/07/Buffalo-Exchange-Tokens-for-Bags-Wordpress-Event-Header.png
END:VEVENT
BEGIN:VEVENT
DTSTART;TZID=America/Phoenix:20221107T170000
DTEND;TZID=America/Phoenix:20221107T210000
DTSTAMP:20260421T011257
CREATED:20221005T154254Z
LAST-MODIFIED:20221018T182052Z
UID:7379-1667840400-1667854800@azpetproject.org
SUMMARY:Fundraising Dinner at Kaizen on November 7
DESCRIPTION:You’re invited to join us on November 7 at Kaizen!\nWe’re very excited to invite you to join us on November 7 for a pet-friendly fundraising dinner at Kaizen! \nEnjoy meticulously crafted\, chef-driven sushi and omakase dishes all while raising critical funds to support families and save pets! \nThere will be 2 dinner reservation slots for you to attend depending on what works best for you! RSVP for either our 5:00 PM dinner or our 7:30 PM dinner. Reservations are $90 per person. Every ticket for this fundraising dinner raises critical funds to support Arizona families and pets in need! We hope to see you there!! \nTap here to save your seat and make your reservation.  Can’t attend the event but still want to participate? \nNow through October 31\, 2022\, when you visit Kaizen and order their featured cocktail\, “Howlin for a Buzz\,” a portion of the proceeds with benefit The Arizona Pet Project! The handcrafted\, “Howlin for a Buzz” signature drink features Titos vodka\, liquid alchemist\, passionfruit\, pineapple juice\, lime\, campari\, and decorated with an electric dust rim! \nTap here to see Kaizen hours of operation and be sure to try the Howlin for a Buzz signature drink before time runs out!! \nQuestions about the event? Send us an email: danielv@azpetproject.org\n  \n\nhttps://azpetproject.org/wp-content/uploads/2022/10/Kaizen_CocktailFeatureAnimation_October2022_Howlin.mp4
URL:https://azpetproject.org/event/kaizen-fundraising-dinner/
LOCATION:Kaizen\, 515 East Grant Street\, Phoenix\, AZ\, 85004\, United States
CATEGORIES:Fundraiser
ATTACH;FMTTYPE=image/png:https://azpetproject.org/wp-content/uploads/2022/10/Kaizen-Fundraiser-for-The-Arizona-Pet-Project.png
ORGANIZER;CN="Kaizen":MAILTO:info@conceptuallysocial.com
END:VEVENT
END:VCALENDAR