BEGIN:VCALENDAR
VERSION:2.0
PRODID:-//The Arizona Pet Project - ECPv6.15.18//NONSGML v1.0//EN
CALSCALE:GREGORIAN
METHOD:PUBLISH
X-ORIGINAL-URL:https://azpetproject.org
X-WR-CALDESC:Events for The Arizona Pet Project
REFRESH-INTERVAL;VALUE=DURATION:PT1H
X-Robots-Tag:noindex
X-PUBLISHED-TTL:PT1H
BEGIN:VTIMEZONE
TZID:America/Phoenix
BEGIN:STANDARD
TZOFFSETFROM:-0700
TZOFFSETTO:-0700
TZNAME:MST
DTSTART:20210101T000000
END:STANDARD
END:VTIMEZONE
BEGIN:VEVENT
DTSTART;TZID=America/Phoenix:20220305T170000
DTEND;TZID=America/Phoenix:20220305T210000
DTSTAMP:20260421T163528
CREATED:20211027T135611Z
LAST-MODIFIED:20220223T182912Z
UID:5214-1646499600-1646514000@azpetproject.org
SUMMARY:2022 HERO Awards
DESCRIPTION:It is our greatest hope that you will join us for our 19th Annual HERO Awards on March 5\, 2022\, at the Omni Montelucia Resort & Spa!\nTake a life-saving leap with us and attend this magical evening celebrating animal and human heroes alike all in the name of improving (and saving) the lives of both people and pets in our community. We invite you to attend our dinner and cocktail event\, and together we can share in the astounding resilience and heroism of this year’s human and pet honorees. \nDate: March 5\, 2022 \n5:30 – 7:00 PM – Registration\, silent auction\, and cocktails \n7:00 – 9:30 PM – Dinner and program \nLocation: Omni Montelucia Resort & Spa \nAttire: Formal \n \n \nIf you’ve ever loved a pet\, you know the comfort\, joy\, and healing they provide. We believe those benefits should be available to all. \nYour support and attendance of this fundraiser help our community’s most vulnerable residents—including veterans\, the elderly\, domestic violence victims\, and the homeless—with basic care for them and their beloved pets. \nOur revolutionary programs have impacted over 150\,000 pets and the people who need them most. Together\, we will help even more. Join us to make the 19th Annual HERO Awards our best yet!\n  \n \n  \nSponsors\nPresenting Sponsor\n \n\nTail Wagger Sponsor\n \n  \nPet Partner Sponsors\n \n \n\nMore event info soon!\n\nEmcee: Ian Schwartz (CBS 5 This Morning Meteorologist)
URL:https://azpetproject.org/event/2022-hero-awards/
LOCATION:Omni Scottsdale Resort & Spa at Montelucia\, 4949 E Lincoln Dr\, Scottsdale\, AZ\, 85253\, United States
CATEGORIES:Fundraiser
ATTACH;FMTTYPE=image/png:https://azpetproject.org/wp-content/uploads/2022/01/Virtuous-Email-Header-2022-HERO.png
END:VEVENT
END:VCALENDAR