BEGIN:VCALENDAR
VERSION:2.0
PRODID:-//The Arizona Pet Project - ECPv6.15.18//NONSGML v1.0//EN
CALSCALE:GREGORIAN
METHOD:PUBLISH
X-ORIGINAL-URL:https://azpetproject.org
X-WR-CALDESC:Events for The Arizona Pet Project
REFRESH-INTERVAL;VALUE=DURATION:PT1H
X-Robots-Tag:noindex
X-PUBLISHED-TTL:PT1H
BEGIN:VTIMEZONE
TZID:America/Phoenix
BEGIN:STANDARD
TZOFFSETFROM:-0700
TZOFFSETTO:-0700
TZNAME:MST
DTSTART:20200101T000000
END:STANDARD
END:VTIMEZONE
BEGIN:VEVENT
DTSTART;TZID=America/Phoenix:20211022T173000
DTEND;TZID=America/Phoenix:20211022T210000
DTSTAMP:20260421T235829
CREATED:20210823T184506Z
LAST-MODIFIED:20211013T150340Z
UID:5324-1634923800-1634936400@azpetproject.org
SUMMARY:2021 HEROes Unleashed
DESCRIPTION:You’re Invited!\n\nWe’re Giving our 2021 HERO(es) a Second Chance to Take Center Stage!\n  \nPlease join us for this exclusive\, outdoor HERO dinner & cocktail event as we honor our 2021 pet & human HERO award winners\, in-person! \n\nFunds raised support our lifesaving programs.\n\nDue to COVID\, we feel our HEROes didn’t get the recognition they deserve at our virtual event in March. So\, we’re taking them for another lap around the stage to tell their incredible stories and invite you to celebrate with us!\n\nDATE:   Friday\, October 22\, 2021 \nTIME:   5:30pm-9:00pm \nLOCATION:    Ocotillo Restaurant (3243 N 3rd St\, Phoenix\, AZ 85012) \n\nSeats are limited\, and as of October 11\, less than 50 tickets remain!\nPurchase your tickets to this exclusive event:\nMeet our 2021 HERO honorees:\n \nTake a life-saving leap with us for a replay of our 18th Annual HERO Awards- a magical evening celebrating animal and human heroes alike all in the name of improving (and saving) the lives of both people and pets in our community. \nOn October 22nd\, we invite you to attend our in-person celebration and together we can share in the astounding resilience and heroism of this year’s honorees \nIf you’ve ever loved a pet\, you know the comfort\, joy\, and healing they provide. We believe those benefits should be available to all. Your support helps our community’s most vulnerable residents – including veterans\, the elderly\, domestic violence victims\, and the homeless – with basic care for them and their beloved pets. \nOur revolutionary programs have impacted over 145\,000 pets and the people who need them most. With your help\, we will save even more. Join us to make the 18th year our best yet! \nPurchase your tickets to this exclusive event:\n \nPresented by\nTail Wagger Sponsor\nPet Partners\nSpecial Recognition\n\n\nSee what the HERO Awards are all about:
URL:https://azpetproject.org/event/herounleashed/
LOCATION:Ocotillo Restaurant\, 3243 N. 3rd St\, Phoenix\, AZ\, 85012\, United States
CATEGORIES:Fundraiser
ATTACH;FMTTYPE=image/png:https://azpetproject.org/wp-content/uploads/2021/08/1.png
ORGANIZER;CN="The Arizona Pet Project":MAILTO:info@azpetproject.org
END:VEVENT
END:VCALENDAR